BEGIN:VCALENDAR
VERSION:2.0
PRODID:-//Tukios.com/
BEGIN:VEVENT
UID:f1ac306b-d0f5-4801-9e29-55ce1ef614bf@www.gilliesmortuary.com
DTSTAMP:20260422T083303Z
DTSTART:20260424T000000Z
DTEND:20260424T020000Z
SUMMARY:Visitation
DESCRIPTION:
URL:https://www.gilliesmortuary.com/obituaries/marsha-wilson
LOCATION: 634 E 200 S  Brigham City UT 84302
GEO:41.5055154;-112.005592
END:VEVENT
END:VCALENDAR