BEGIN:VCALENDAR
VERSION:2.0
PRODID:-//Tukios.com/
BEGIN:VEVENT
UID:ffc2500f-0b88-4ead-815b-04d4131395f9@www.gilliesmortuary.com
DTSTAMP:20260422T081725Z
DTSTART:20260424T153000Z
DTEND:20260424T163000Z
SUMMARY:Visitation
DESCRIPTION:
URL:https://www.gilliesmortuary.com/obituaries/marsha-wilson
LOCATION:Gillies Funeral Chapel 634 E 200 S  Brigham City UT 84302
GEO:41.5055154;-112.005592
END:VEVENT
END:VCALENDAR