BEGIN:VCALENDAR
VERSION:2.0
PRODID:-//Tukios.com/
BEGIN:VEVENT
UID:f9510b87-d4b6-4eb4-bce3-6d019120520b@www.gilliesmortuary.com
DTSTAMP:20260422T082818Z
DTSTART:20260424T170000Z
DTEND:20260424T180000Z
SUMMARY:Funeral Service
DESCRIPTION:
URL:https://www.gilliesmortuary.com/obituaries/marsha-wilson
LOCATION:Gillies Funeral Chapel 634 E 200 S  Brigham City UT 84302
GEO:41.5055154;-112.005592
END:VEVENT
END:VCALENDAR