BEGIN:VCALENDAR
VERSION:2.0
PRODID:-//Tukios.com/
BEGIN:VEVENT
UID:fb51b3a4-cdce-4965-a264-b5249bf56045@www.gilliesmortuary.com
DTSTAMP:20260422T082825Z
DTSTART:20260424T183000Z
DTEND:20260424T190000Z
SUMMARY:Interment
DESCRIPTION:
URL:https://www.gilliesmortuary.com/obituaries/marsha-wilson
LOCATION: 495 East 500 South  Brigham City UT 84302
GEO:41.5008476;-112.0081548
END:VEVENT
END:VCALENDAR